BEGIN:VCALENDAR
VERSION:2.0
PRODID:-//Dog Training and Equipment Townsville - ECPv4.6.11.1//NONSGML v1.0//EN
CALSCALE:GREGORIAN
METHOD:PUBLISH
X-WR-CALNAME:Dog Training and Equipment Townsville
X-ORIGINAL-URL:http://morethanpets.com.au
X-WR-CALDESC:Events for Dog Training and Equipment Townsville
BEGIN:VEVENT
DTSTART;TZID=UTC+10:20150918T170000
DTEND;TZID=UTC+10:20150918T210000
DTSTAMP:20190227T131644
CREATED:20150916T132849Z
LAST-MODIFIED:20150916T133809Z
UID:359-1442595600-1442610000@morethanpets.com.au
SUMMARY:Riverway Moonlight Markets
DESCRIPTION:Come and find us at Riverway this Friday night. It is a great atmosphere and a chance to stock up on your pal’s favourite treats. We will have our full range of products with us. See you then! \n
URL:http://morethanpets.com.au/event/riverway-moonlight-markets/
LOCATION:20 Village Blvd\, Thuringowa\, Qld\, 4817\, Australia
END:VEVENT
END:VCALENDAR